BEGIN:VCALENDAR
VERSION:2.0
PRODID:icalendar-ruby
CALSCALE:GREGORIAN
BEGIN:VTIMEZONE
TZID:America/New_York
BEGIN:DAYLIGHT
DTSTART:20260308T030000
TZOFFSETFROM:-0500
TZOFFSETTO:-0400
RRULE:FREQ=YEARLY;BYDAY=2SU;BYMONTH=3
TZNAME:EDT
END:DAYLIGHT
BEGIN:STANDARD
DTSTART:20261101T010000
TZOFFSETFROM:-0400
TZOFFSETTO:-0500
RRULE:FREQ=YEARLY;BYDAY=1SU;BYMONTH=11
TZNAME:EST
END:STANDARD
END:VTIMEZONE
BEGIN:VEVENT
DTSTAMP:20260424T101032Z
UID:c83cfce3-3403-4f0c-a937-e6400c643b2c
DTSTART;TZID=America/New_York:20260613T083000
DTEND;TZID=America/New_York:20260613T173000
CLASS:PRIVATE
DESCRIPTION:June 13 - TCF Canada
LOCATION:Concordia University - Faubourg Building | 1250 rue Guy\, 1er éta
 ge Montréal QC\, CA H3H 2T4
SUMMARY:June 13 - TCF Canada
END:VEVENT
END:VCALENDAR
