BEGIN:VCALENDAR
VERSION:2.0
PRODID:icalendar-ruby
CALSCALE:GREGORIAN
BEGIN:VTIMEZONE
TZID:America/New_York
BEGIN:DAYLIGHT
DTSTART:20260308T030000
TZOFFSETFROM:-0500
TZOFFSETTO:-0400
RRULE:FREQ=YEARLY;BYDAY=2SU;BYMONTH=3
TZNAME:EDT
END:DAYLIGHT
BEGIN:STANDARD
DTSTART:20261101T010000
TZOFFSETFROM:-0400
TZOFFSETTO:-0500
RRULE:FREQ=YEARLY;BYDAY=1SU;BYMONTH=11
TZNAME:EST
END:STANDARD
END:VTIMEZONE
BEGIN:VEVENT
DTSTAMP:20260423T053157Z
UID:fdeaa7da-fabe-4512-a796-0dead58d5cea
DTSTART;TZID=America/New_York:20260918T084500
DTEND;TZID=America/New_York:20260918T183000
CLASS:PRIVATE
DESCRIPTION:CeNSR NanoInnovation Day
SUMMARY:CeNSR NanoInnovation Day
END:VEVENT
END:VCALENDAR
